Workbook

Sheet PLAN PRIHODA
A1: ŠIFRA | B1: NAZIV | C1: IZVOR FINANCIRANJA | D1: IZVOR FINANCIRANJA - NAZIV | E1: PLAN 2021. | F1: REBALANS | G1: NOVI PLAN 2021.
E2: =SUM(E3:E19) -> 7668850 | F2: =F3+F4+F5+F6+F7+F8+F9+F10+F11+F12+F13+F14+F15+F17+F16+F18+F19+F20 -> 3386540 | G2: =G3+G4+G5+G6+G8+G7+G9+G10+G11+G12+G13+G14+G15+G17+G18+G20 -> 11055390
A3: 671111 | B3: Prihodi iz nadležnog proračuna za financiranje rashoda poslovanja-dec. | C3: 12 | D3: Decentralizirana funckija - osnovno školstvo | E3: 695000 | F3: -68000 | G3: =SUM(E3:F3) -> 627000
A4: 671111 | B4: Prihodi iz nadležnog proračuna za financiranje rashoda poslovanja-dec.asistenti | C4: 11 | D4: Opći prihodi i primici (nenamjenski) - gradska sredstva | E4: 0 | F4: 1948 | G4: 1948
A5: 671112 | B5: Prihodi iz nadležnog proračuna za financiranje rashoda poslovanja-gradska sredstva | C5: 11 | D5: =LOOKUP(C5,'KATALOG IZVORA FINANCIRANJA'!$A$2:$B$40) -> Opći prihodi i primici (nenamjenski) - gradska sredstva | E5: 272000 | F5: 107000 | G5: =SUM(E5:F5) -> 379000
A6: 67121 | B6: Prihodi iz nadležnog proračuna za financiranje rashoda za nabavu nefinancijske imovine | C6: 11 | D6: =LOOKUP(C6,'KATALOG IZVORA FINANCIRANJA'!$A$2:$B$40) -> Opći prihodi i primici (nenamjenski) - gradska sredstva | E6: 22350 | F6: 0 | G6: =SUM(E6:F6) -> 22350
A7: 63612 | B7: Tekuće pomoći iz državnog proračuna proračunskim korisnicima proračuna JLP(R)S-mzo | C7: 41 | D7: =LOOKUP(C7,'KATALOG IZVORA FINANCIRANJA'!$A$2:$B$40) -> Tekuće pomoći iz državnog proračuna | E7: 6169500 | F7: 3152000 | G7: =SUM(E7:F7) -> 9321500
A8: 63622 | B8: Kapitalne pomoći iz državnog proračuna prorač. korisnicima proračuna JLP(R)S | C8: 43 | D8: Kapitalne pomoći iz državnog proračuna | E8: 0 | F8: 3000 | G8: =SUM(E8:F8) -> 3000
A9: 639311 | B9: Tekući prijenosi između prorač. kor. istog prorač. temeljem prijenosa EU sredstva | C9: 53 | D9: Pomoći iz državnog proračuna temeljem prijenosa EU sredstava | E9: 0 | F9: 14902.2 | G9: =SUM(E9:F9) -> 14902.2
A10: 639312 | B10: Tekući prijenosi između prorač. kor. istog prorač. temeljem prijenosa EU-država | C10: 41 | D10: =LOOKUP(C10,'[1]IZVORI FINANCIRANJA'!$A$2:$B$40) -> Tekuće pomoći iz državnog proračuna | E10: 0 | F10: 2629.8 | G10: =SUM(E10:F10) -> 2629.8
A11: 64143 | B11: Zatezne kamate iz obveznih odnosa | C11: 21 | D11: Vlastiti prihodi proračunskih korisnika | E11: 0 | F11: 2000 | G11: =SUM(E11:F11) -> 2000
A12: 65264 | B12: Sufinanciranje cijene usluge, participacije i slično | C12: 21 | D12: Vlastiti prihodi proračunskih korisnika | E12: 518000 | F12: 71279.33 | G12: =SUM(E12:F12) -> 589279.33
A13: 66151 | B13: Prihodi od pruženih usluga | C13: 21 | D13: Vlastiti prihodi proračunskih korisnika | E13: 10000 | F13: 2000 | G13: =SUM(E13:F13) -> 12000
A14: 64132 | B14: Kamate na depozite po viđenju | C14: 21 | D14: =LOOKUP(C14,'KATALOG IZVORA FINANCIRANJA'!$A$2:$B$40) -> Vlastiti prihodi proračunskih korisnika | E14: 700 | F14: 300 | G14: =SUM(E14:F14) -> 1000
A15: 68311 | B15: Ostali prihodi | C15: 21 | D15: Vlastiti prihodi proračunskih korisnika | E15: 1000 | F15: 2000 | G15: =SUM(E15:F15) -> 3000
A16: 64151 | B16: Prihodi od pozitivnih tečajnih razlika | C16: 21 | D16: Vlastiti prihodi proračunskih korisnika | E16: 300 | F16: -300 | G16: =SUM(E16:F16) -> 0
A17: 63612 | B17: Tekuće pomoći iz državnog proračuna proračunskim korisnicima proračuna JLP(R)S-županija | C17: 42 | D17: =LOOKUP(C17,'KATALOG IZVORA FINANCIRANJA'!$A$2:$B$40) -> Tekuće pomoći iz županijskog proračuna | E17: 10000 | F17: 0 | G17: =SUM(E17:F17) -> 10000
A18: 72262 | B18: Prihod od prodaje glazbenih instrumenata | C18: 21 | D18: Prihodi od nefinacijske imovine i nadoknade štete s osnova | E18: 0 | F18: 1500 | G18: =SUM(E18:F18) -> 1500
A19: 92222 | B19: Manjak prihoda od nefinancijske imovine | C19: 21 | D19: =LOOKUP(C19,'KATALOG IZVORA FINANCIRANJA'!$A$2:$B$40) -> Vlastiti prihodi proračunskih korisnika | E19: -30000 | F19: 30000 | G19: =SUM(E19:F19) -> 0
A20: 92211 | B20: Višak prihoda poslovanja | C20: 21 | D20: =LOOKUP(C20,'[2]IZVORI FINANCIRANJA'!$A$2:$B$40) -> Vlastiti prihodi proračunskih korisnika | E20: 0 | F20: 64280.67 | G20: =F20 -> 64280.67

Sheet PLAN RASHODA I IZDATAKA
A1: ŠIFRA | B1: NAZIV | C1: IZVOR FINANCIRANJA | D1: IZVOR FINANCIRANJA - NAZIV | E1: PLAN 2021. | F1: REBALANS | G1: NOVI PLAN 2021.
A2: 0400 | B2: UPRAVNI ODJEL DRUŠTVENIH DJELATNOSTI | E2: =SUM(E3,E179) -> 7668850 | F2: =SUM(F3,F179) -> 3386540 | G2: =SUM(G3,G179) -> 11055390
A3: 0431 | B3: OSNOVNO ŠKOLSTVO | E3: =SUM(E4,E22) -> 7396850 | F3: =SUM(F4,F22) -> 3260060 | G3: =SUM(G4,G22) -> 10656910
A4: 161372600000001 | B4: PLAN RAZVOJNIH PROGRAMA | E4: =SUM(E5) -> 181850 | F4: =SUM(F5) -> 13700 | G4: =SUM(G5) -> 195550
A5: 3100 | B5: 3100: KAPITALNO ULAGANJE U OSNOVNO ŠKOLSTVO | E5: =SUM(E7:E21) -> 181850 | F5: =F6+F10+F11+F12+F14+F15+F17+F18+F19+F20+F21 -> 13700 | G5: =G6+G7+G8+G9+G12+G13+G14+G16+G17+G18+G19+G20+G21 -> 195550
A6: 41249 | B6: Ostala nespomenuta prava | C6: 21 | D6: Vlastiti prihodi proračunskih korisnika | E6: 0 | F6: 3200 | G6: =SUM(E6:F6) -> 3200
A7: 42211 | B7: Računala i računalna oprema | C7: 21 | D7: Vlastiti prihodi proračunskih korisnika | E7: 15000 | F7: 0 | G7: =SUM(E7:F7) -> 15000
A8: 42212 | B8: Uredski namještaj | C8: 21 | D8: Vlastiti prihodi proračunskih korisnika | E8: 10000 | F8: 0 | G8: =SUM(E8:F8) -> 10000
A9: 42219 | B9: Ostala uredska oprema | C9: 21 | D9: Vlastiti prihodi proračunskih korisnika | E9: 10000 | F9: 0 | G9: =SUM(E9:F9) -> 10000
A10: 42221 | B10: Radio i TV prijemnici | C10: 21 | D10: Vlastiti prihodi proračunskih korisnika | E10: 8000 | F10: -8000 | G10: =SUM(E10:F10) -> 0
A11: 42222 | B11: Telefoni i ostali uređaji | C11: 21 | D11: Vlastiti prihodi proračunskih korisnika | E11: 5000 | F11: -5000 | G11: =SUM(E11:F11) -> 0
A12: 42229 | B12: Ostala komunikacijska oprema | C12: 21 | D12: Vlastiti prihodi proračunskih korisnika | E12: 5000 | F12: 7000 | G12: =SUM(E12:F12) -> 12000
A13: 42231 | B13: Oprema za ventilaciju, grijanje i hlađenje | C13: 21 | D13: Vlastiti prihodi proračunskih korisnika | E13: 8000 | F13: 0 | G13: =SUM(E13:F13) -> 8000
A14: 42232 | B14: Oprema za održavanje prostorija | C14: 21 | D14: Vlastiti prihodi proračunskih korisnika | E14: 5000 | F14: -4000 | G14: =SUM(E14:F14) -> 1000
A15: 42239 | B15: Ostala oprema za održavanje i zaštitu | C15: 21 | D15: Vlastiti prihodi proračunskih korisnika | E15: 5000 | F15: -5000 | G15: =SUM(E15:F15) -> 0
A16: 42262 | B16: Glazbeni instrumenti i oprema | C16: 11 | D16: Opći prihodi i primici (nenamjenski) - gradska sredstva | E16: 22350 | F16: 0 | G16: =SUM(E16:F16) -> 22350
A17: 42262 | B17: Glazbeni instrumenti i oprema | C17: 21 | D17: Vlastiti prihodi proračunskih korisnika | E17: 71500 | F17: 20000 | G17: =SUM(E17:F17) -> 91500
... A21: 42411 | B21: Knjige | C21: 21 | D21: Vlastiti prihodi proračunskih korisnika | E21: 17000 | F21: -4000 | G21: =SUM(E21:F21) -> 13000
A22: 161372600000002 | B22: TEKUĆI PROGRAMI | E22: =E23+E53+E167 -> 7215000 | F22: =F23+F53+F167 -> 3246360 | G22: =G23+G53+G167 -> 10461360
A23: 161372110210009 | B23: STRUČNO, ADMINISTARTIVNO TEHNIČKO OSOBLJE | E23: =SUM(E24:E52) -> 6029500 | F23: =SUM(F24:F52) -> 3012580 | G23: =SUM(G24:G52) -> 9042080
A24: 31111 | B24: Plaće za zaposlene | C24: 41 | D24: Tekuće pomoći iz državnog proračuna | E24: 5000000 | F24: 1500000 | G24: =SUM(E24:F24) -> 6500000
A25: 31112 | B25: Plaće za vježbenike | C25: 41 | D25: Tekuće pomoći iz državnog proračuna | E25: 0 | F25: 0 | G25: =SUM(E25:F25) -> 0
A26: 31113 | B26: Plaće po sudskim presudama | C26: 41 | D26: Tekuće pomoći iz državnog proračuna | E26: 0 | F26: 500000 | G26: =SUM(E26:F26) -> 500000
A27: 31113 | B27: Plaće po sudskim presudama | C27: 21 | D27: Vlastiti prihodi proračunskih korisnika | E27: 0 | F27: 3000 | G27: 3000
A28: 31126 | B28: Dnevni obroci | C28: 41 | D28: Tekuće pomoći iz državnog proračuna | E28: 0 | F28: 0 | G28: =SUM(E28:F28) -> 0
A29: 31129 | B29: Ostale plaće u naravi | C29: 41 | D29: Tekuće pomoći iz državnog proračuna | E29: 0 | F29: 0 | G29: =SUM(E29:F29) -> 0
A30: 31131 | B30: Plaće za prekovremeni rad | C30: 41 | D30: Tekuće pomoći iz državnog proračuna | E30: 0 | F30: 300000 | G30: =SUM(E30:F30) -> 300000
A31: 31141 | B31: Plaće za posebne uvjete rada | C31: 41 | D31: Tekuće pomoći iz državnog proračuna | E31: 0 | F31: 250000 | G31: =SUM(E31:F31) -> 250000
A32: 31211 | B32: Bonus za uspješan rad | C32: 41 | D32: Tekuće pomoći iz državnog proračuna | E32: 0 | F32: 0 | G32: =SUM(E32:F32) -> 0
A33: 31212 | B33: Nagrade | C33: 41 | D33: Tekuće pomoći iz državnog proračuna | E33: 40000 | F33: -10000 | G33: =SUM(E33:F33) -> 30000
A34: 31212 | B34: Nagrade | C34: 42 | D34: Tekuće pomoći iz županijskog proračuna | E34: 10000 | F34: 0 | G34: =SUM(E34:F34) -> 10000
A35: 31213 | B35: Darovi | C35: 41 | D35: Tekuće pomoći iz državnog proračuna | E35: 15000 | F35: 85000 | G35: =SUM(E35:F35) -> 100000
A36: 31214 | B36: Otpremnine | D36: Nema izvora financiranja | E36: 0 | G36: =SUM(E36:F36) -> 0
A37: 31215 | B37: Naknade za bolest, invalidnost i smrtni slučaj | C37: 41 | D37: Tekuće pomoći iz državnog proračuna | E37: 5000 | F37: 10000 | G37: =SUM(E37:F37) -> 15000
A38: 31216 | B38: Regres za godišnji odmor | C38: 41 | D38: Tekuće pomoći iz državnog proračuna | E38: 70000 | F38: 20000 | G38: =SUM(E38:F38) -> 90000
A39: 31219 | B39: Ostali nenavedeni rashodi za zaposlene | C39: 41 | D39: Tekuće pomoći iz državnog proračuna | E39: 70000 | F39: -50000 | G39: =SUM(E39:F39) -> 20000
A40: 31311 | B40: Doprinosi za mirovinsko osiguranje | D40: Nema izvora financiranja | E40: 0 | G40: =SUM(E40:F40) -> 0
A41: 31321 | B41: Doprinosi za obvezno zdravstveno osiguranje | C41: 41 | D41: Tekuće pomoći iz državnog proračuna | E41: 800000 | F41: 400000 | G41: =SUM(E41:F41) -> 1200000
A42: 31321 | B42: Doprinosi za obvezno zdravstveno osiguranje | C42: 21 | D42: Vlastiti prihodi proračunskih korisnika | E42: 0 | F42: 500 | G42: =SUM(E42:F42) -> 500
A43: 31322 | B43: Doprinos za obvezno zdravstveno osiguranje zaštite zdravlja na radu | C43: 41 | D43: Tekuće pomoći iz državnog proračuna | E43: 0 | F43: 1000 | G43: =SUM(E43:F43) -> 1000
...

Sheet KATALOG IZVORA FINANCIRANJA
A1: Izvor | B1: Opis
A2: 0 | B2: Nema izvora financiranja
A3: 1 | B3: Opći prihodi i primici
A4: 11 | B4: Opći prihodi i primici (nenamjenski) - gradska sredstva
A5: 12 | B5: Decentralizirana funckija - osnovno školstvo
A6: 13 | B6: Decentralizirana funkcija - vatrogastvo
A7: 2 | B7: Vlastiti prihodi
A8: 21 | B8: Vlastiti prihodi proračunskih korisnika
A9: 3 | B9: Prihodi za posebne namjene
A10: 31 | B10: Komunalna naknada
A11: 32 | B11: Komunalni doprinos
A12: 33 | B12: Spomenička renta
A13: 34 | B13: Prihodi od poljoprivrivrednog zemljišta
... A40: 81 | B40: Štete

Sheet RAČUNSKI PLAN
A1: Konto | B1: Naziv
A2: 0 | B2: Nefinancijska imovina
A3: 01 | B3: Neproizvedena dugotrajna imovina
A4: 011 | B4: Materijalna imovina - prirodna bogatstva
A5: 0111 | B5: Zemljište
A6: 01111 | B6: Poljoprivredno zemljište
A7: 01112 | B7: Građevinsko zemljište
A8: 01119 | B8: Ostala zemljišta
A9: 0112 | B9: Rudna bogatstva
A10: 01121 | B10: Nafta i zemni plin
A11: 01122 | B11: Plemeniti metali
A12: 01123 | B12: Drago kamenje
... A312: 12453 | B312: Potraživanja za više plaćene doprinose za zapošljavanje
A313: 125 | B313: Ispravak vrijednosti potraživanja od zaposlenih te za više plaćene poreze i ostalo
A314: 1251 | B314: Ispravak vrijednosti potraživanja od zaposlenih te za više plaćene poreze i ostalo
A315: 12511 | B315: Ispravak vrijednosti potraživanja od zaposlenih
A316: 12512 | B316: Ispravak vrijednosti potraživanja za više plaćene poreze i doprinose
A317: 12513 | B317: Ispravak vrijednosti ostalih potraživanja
A318: 129 | B318: Ostala potraživanja
A319: 1291 | B319: Potraživanja za naknade koje se refundiraju i predujmove
A320: 12911 | B320: Potraživanja za naknade koje se refundiraju
A321: 12912 | B321: Potraživanja za predujmove
A322: 12913 | B322: Potraživanja za dane predujmove za EU projekte
A323: 1292 | B323: Ostala nespomenuta potraživanja
A324: 12921 | B324: Ostala nespomenuta potraživanja
A325: 1293 | B325: Potraživanja za prodana potraživanja (faktoring)
... A351: 133 | B351: Zajmovi kreditnim i ostalim financijskim institucijama u javnom sektoru
A352: 1332 | B352: Zajmovi kreditnim institucijama u javnom sektoru
A353: 13321 | B353: Zajmovi kreditnim institucijama u javnom sektoru - kratkoročni
A354: 13322 | B354: Zajmovi kreditnim institucijama u javnom sektoru - dugoročni
A355: 13323 | B355: Zajmovi kreditnim institucijama u javnom sektoru po protestiranim jamstvima
A356: 1333 | B356: Zajmovi osiguravajućim društvima u javnom sektoru
A357: 13331 | B357: Zajmovi osiguravajućim društvima u javnom sektoru - kratkoročni
A358: 13332 | B358: Zajmovi osiguravajućim društvima u javnom sektoru - dugoročni
A359: 13333 | B359: Zajmovi osiguravajućim društvima u javnom sektoru po protestiranim jamstvima
A360: 1334 | B360: Zajmovi ostalim financijskim institucijama u javnom sektoru
A361: 13341 | B361: Zajmovi ostalim financijskim institucijama u javnom sektoru - kratkoročni
A362: 13342 | B362: Zajmovi ostalim financijskim institucijama u javnom sektoru - dugoročni
A363: 13343 | B363: Zajmovi ostalim financijskim institucijama u javnom sektoru po protestiranim jamstvima
A364: 134 | B364: Zajmovi trgovačkim društvima u javnom sektoru
...
