Workbook

Sheet PRIHODI
A1: EKONOMSKA KLASIFIKACIJA | B1: EKONOMSKA KLASIFIKACIJA NAZIV | C1: IZVOR FINANCIRANJA | D1: IZVOR FINANCIRANJA - NAZIV | E1: PLAN | F1: REBALANS | G1: NOVI PLAN
E2: =SUM(E3:E22) -> 1594800 | F2: =SUM(F3:F22) -> 6265929.4 | G2: =E2+F2 -> 7860729.4
A3: 67111 | B3: Prihodi iz nadležnog proračuna za financiranje rashoda poslovanja | C3: 12 | D3: =LOOKUP(C3,'[1]KATALOG IZVORA FINANCIRANJA'!$A$2:$B$40) -> Decentralizirana funckija - osnovno školstvo | E3: 695000 | F3: 0 | G3: =E3+F3 -> 695000
A4: 67111 | B4: Prihodi iz nadležnog proračuna za financiranje rashoda poslovanja | C4: 11 | D4: =LOOKUP(C4,'[1]KATALOG IZVORA FINANCIRANJA'!$A$2:$B$40) -> Opći prihodi i primici (nenamjenski) - gradska sredstva | E4: 221100 | F4: -66202.1 | G4: =E4+F4 -> 154897.9
A5: 63613 | B5: Tekuće pomoći proračunskim korisnicima iz proračuna JLP S koji im nije nadležan | C5: 42 | D5: =LOOKUP(C5,'[1]KATALOG IZVORA FINANCIRANJA'!$A$2:$B$40) -> Tekuće pomoći iz županijskog proračuna | E5: 12000 | F5: 43606.88 | G5: =E5+F5 -> 55606.88
A6: 63612 | B6: Tekuće pomoći iz državnog proračuna proračunskim korisnicima JLP S | C6: 41 | D6: =LOOKUP(C6,'[1]KATALOG IZVORA FINANCIRANJA'!$A$2:$B$40) -> Tekuće pomoći iz državnog proračuna | E6: 146000 | F6: 6221000 | G6: =E6+F6 -> 6367000
A7: 63414 | B7: Tekuće pomoći od hzmo-a, hzz-a, hzzo-a | C7: 47 | D7: =LOOKUP(C7,'[1]KATALOG IZVORA FINANCIRANJA'!$A$2:$B$40) -> Pomoći | E7: 9000 | F7: -2472.49 | G7: =E7+F7 -> 6527.51
A8: 63814 | B8: Tekuće pomoći od izvanporačunskih korisnika temeljm prijenosa EU sredstava | C8: 47 | D8: =LOOKUP(C8,'[1]KATALOG IZVORA FINANCIRANJA'!$A$2:$B$40) -> Pomoći | E8: 61400 | F8: -1043.49 | G8: =E8+F8 -> 60356.51
A9: 63613 | B9: Tekuće pomoći proračunskim korisnicima iz proračuna JLP S koji im nije nadležan | C9: 47 | D9: =LOOKUP(C9,'[1]KATALOG IZVORA FINANCIRANJA'!$A$2:$B$40) -> Pomoći | E9: 2000 | F9: 0 | G9: =E9+F9 -> 2000
A10: 63622 | B10: Kapitalne pomoći iz državnog proračuna korisnicima JLP S | C10: 43 | D10: =LOOKUP(C10,'[1]KATALOG IZVORA FINANCIRANJA'!$A$2:$B$40) -> Kapitalne pomoći iz državnog proračuna | E10: 0 | F10: 1600 | G10: =E10+F10 -> 1600
A11: 63621 | B11: Kapitalne donacije od fizičkih osoba | C11: 52 | D11: =LOOKUP(C11,'[1]KATALOG IZVORA FINANCIRANJA'!$A$2:$B$40) -> Kapitalne donacije | E11: 0 | F11: 10000 | G11: =E11+F11 -> 10000
A12: 66313 | B12: Tekuće donacije od trgovačkih društava | C12: 51 | D12: =LOOKUP(C12,'[1]KATALOG IZVORA FINANCIRANJA'!$A$2:$B$40) -> Donacije | E12: 4000 | F12: 0 | G12: =E12+F12 -> 4000
A13: 72262 | B13: Prihodi od prodaje postrojenja i opreme | C13: 64 | D13: Prodaja glazbenih instrumenata | E13: 0 | F13: 6200 | G13: =E13+F13 -> 6200
A14: 64151 | B14: Prihodi od pozitivnih tečajnih razlika | C14: 21 | D14: =LOOKUP(C14,'[1]KATALOG IZVORA FINANCIRANJA'!$A$2:$B$40) -> Vlastiti prihodi proračunskih korisnika | E14: 1000 | F14: -1000 | G14: =E14+F14 -> 0
A15: 64132 | B15: Kamate na depozite po viđenju | C15: 21 | D15: =LOOKUP(C15,'[1]KATALOG IZVORA FINANCIRANJA'!$A$2:$B$40) -> Vlastiti prihodi proračunskih korisnika | E15: 700 | F15: -700 | G15: =E15+F15 -> 0
A16: 65264 | B16: Sufinanciranje cijene usluge, participacije i slično | C16: 21 | D16: =LOOKUP(C16,'[1]KATALOG IZVORA FINANCIRANJA'!$A$2:$B$40) -> Vlastiti prihodi proračunskih korisnika | E16: 529600 | F16: 64940.58 | G16: =E16+F16 -> 594540.58
A17: 66151 | B17: Prihodi od pruženih usluga | C17: 21 | D17: =LOOKUP(C17,'[1]KATALOG IZVORA FINANCIRANJA'!$A$2:$B$40) -> Vlastiti prihodi proračunskih korisnika | E17: 20000 | F17: -8000 | G17: =E17+F17 -> 12000
A18: 68311 | B18: Ostali prihodi | C18: 21 | D18: =LOOKUP(C18,'[1]KATALOG IZVORA FINANCIRANJA'!$A$2:$B$40) -> Vlastiti prihodi proračunskih korisnika | E18: 3000 | F18: -2000 | G18: =E18+F18 -> 1000
A19: 92222 | B19: Manjak prihoda od nefinancijske imovine | C19: 21 | D19: =LOOKUP(C19,'[1]KATALOG IZVORA FINANCIRANJA'!$A$2:$B$40) -> Vlastiti prihodi proračunskih korisnika | E19: -110000 | F19: 0 | G19: =E19+F19 -> -110000

Sheet RASHODI
A1: EKONOMSKA KLASIFIKACIJA | B1: RAZDJEL/GLAVA/RKP/PROGRAM/AKTIVNOST EKONOMSKA KLASIFIKACIJA NAZIV | C1: IZVOR FINANCIRANJA | D1: IZVOR FINANCIRANJA - NAZIV | E1: PLAN | F1: REBALANS | G1: NOVI PLAN
A2: 004 | B2: UPRAVNI ODJEL DRUŠTVENIH DJELATNOSTI | E2: =E3 -> 1594800 | F2: =F3 -> 6265929.4 | G2: =G3 -> 7860729.4
A3: 00405 | B3: OSNOVNO ŠKOLSTVO | E3: =E4+E24 -> 1594800 | F3: =F4+F24 -> 6265929.4 | G3: =G4+G24 -> 7860729.4
A4: 1001 | B4: PLAN RAZVOJNIH PROGRAMA | E4: =SUM(E7:E21) -> 92000 | F4: =F5 -> 61371.74 | G4: =G5 -> 153371.74
A5: 1001 K100117 | B5: KAPITALNO ULAGANJE U OSNOVNO ŠKOLSTVO | E5: =SUM(E7:E21) -> 92000 | F5: =F6+F7+F8+F9+F10+F11+F12+F13+F14+F15+F16+F17+F18+F19+F20+F21+F22+F23 -> 61371.74 | G5: =G6+G7+G8+G9+G10+G11+G12+G13+G14+G15+G16+G17+G18+G19+G20+G21+G22+G23 -> 153371.74
A6: 41261 | B6: Ostala nematerijalna imovina | C6: 21 | D6: Vlastiti prihodi proračunskih korisnika | E6: 0 | F6: 19000 | G6: =SUM(E6:F6) -> 19000
A7: 42211 | B7: Računala i računalna oprema | C7: 21 | D7: =LOOKUP(C7,'KATALOG IZVORA FINANCIRANJA'!$A$2:$B$41) -> Vlastiti prihodi proračunskih korisnika | E7: 10000 | F7: 11000 | G7: =SUM(E7:F7) -> 21000
A8: 42212 | B8: Uredski namještaj | C8: 21 | D8: =LOOKUP(C8,'KATALOG IZVORA FINANCIRANJA'!$A$2:$B$41) -> Vlastiti prihodi proračunskih korisnika | E8: 5000 | F8: -4500 | G8: =SUM(E8:F8) -> 500
A9: 42219 | B9: Ostala uredska oprema | C9: 21 | D9: =LOOKUP(C9,'KATALOG IZVORA FINANCIRANJA'!$A$2:$B$41) -> Vlastiti prihodi proračunskih korisnika | E9: 5000 | F9: 300 | G9: =SUM(E9:F9) -> 5300
A10: 42221 | B10: Radio i TV prijemnici | C10: 21 | D10: =LOOKUP(C10,'KATALOG IZVORA FINANCIRANJA'!$A$2:$B$41) -> Vlastiti prihodi proračunskih korisnika | E10: 3000 | F10: -3000 | G10: =SUM(E10:F10) -> 0
A11: 42222 | B11: Telefoni i ostali komunikacijski uređaji | C11: 21 | D11: =LOOKUP(C11,'KATALOG IZVORA FINANCIRANJA'!$A$2:$B$41) -> Vlastiti prihodi proračunskih korisnika | E11: 0 | F11: 2200 | G11: =SUM(E11:F11) -> 2200
A12: 42229 | B12: Ostala komunikacijska oprema | C12: 21 | D12: Vlastiti prihodi proračunskih korisnika | E12: 5000 | F12: -2000 | G12: =SUM(E12:F12) -> 3000
A13: 42231 | B13: Oprema za grijanje, ventilaciju i hlađenje | C13: 21 | D13: =LOOKUP(C13,'KATALOG IZVORA FINANCIRANJA'!$A$2:$B$41) -> Vlastiti prihodi proračunskih korisnika | E13: 5000 | F13: -2500 | G13: =SUM(E13:F13) -> 2500
A14: 42232 | B14: Oprema za održavanje prostorija | C14: 21 | D14: =LOOKUP(C14,'KATALOG IZVORA FINANCIRANJA'!$A$2:$B$41) -> Vlastiti prihodi proračunskih korisnika | E14: 5000 | F14: 0 | G14: =SUM(E14:F14) -> 5000
A15: 42239 | B15: Ostala oprema za održavanje i zaštitu | C15: 21 | D15: =LOOKUP(C15,'KATALOG IZVORA FINANCIRANJA'!$A$2:$B$41) -> Vlastiti prihodi proračunskih korisnika | E15: 5000 | F15: -3600 | G15: =SUM(E15:F15) -> 1400
A16: 42262 | B16: Glazbeni instrumenti i oprema | C16: 21 | D16: =LOOKUP(C16,'KATALOG IZVORA FINANCIRANJA'!$A$2:$B$41) -> Vlastiti prihodi proračunskih korisnika | E16: 30000 | F16: 19000 | G16: =SUM(E16:F16) -> 49000
A17: 42262 | B17: Glazbeni instrumenti i oprema | C17: 52 | D17: Kapitalne donacije | E17: 0 | F17: 10000 | G17: =SUM(E17:F17) -> 10000
A18: 42262 | B18: Glazbeni instrumenti i oprema | C18: 64 | D18: Prodaja glazbenih instrumenata | E18: 0 | F18: 6200 | G18: =SUM(E18:F18) -> 6200
A19: 42272 | B19: Strojevi | C19: 21 | D19: Vlastiti prihodi proračunskih korisnika | E19: 0 | F19: 2000 | G19: =SUM(E19:F19) -> 2000
A20: 42273 | B20: Oprema | C20: 21 | D20: Vlastiti prihodi proračunskih korisnika | E20: 0 | F20: 8000 | G20: =SUM(E20:F20) -> 8000
A21: 42411 | B21: Knjige | C21: 21 | D21: =LOOKUP(C21,'KATALOG IZVORA FINANCIRANJA'!$A$2:$B$41) -> Vlastiti prihodi proračunskih korisnika | E21: 19000 | F21: -7028.26 | G21: =SUM(E21:F21) -> 11971.74
A22: 42411 | B22: Knjige | C22: 43 | D22: Kapitalne pomoći iz državnog proračuna | E22: 0 | F22: 1600 | G22: =SUM(E22:F22) -> 1600
A23: 42429 | B23: Ostala umjetnička djela | C23: 21 | D23: Vlastiti prihodi proračunskih korisnika | E23: 0 | F23: 4700 | G23: =SUM(E23:F23) -> 4700
A24: 1002 | B24: TEKUĆI PROGRAMI | E24: =E25+E31+E45+E153 -> 1502800 | F24: =F25+F31+F45+F153 -> 6204557.6 | G24: =G25+G31+G45+G153 -> 7707357.6
A25: 1002 A100208 | B25: STRUČNO, ADMINISTRATIVNO I TEHNIČKO OSOBLJE | E25: =E28+E29 -> 65000 | F25: =F26+F27+F28+F29+F30 -> 6224000 | G25: =G26+G27+G28+G29+G30 -> 6289000
A26: 31111 | B26: Plaće za zaposlene | C26: 47 | D26: Pomoći | E26: 0 | F26: 53000 | G26: =SUM(E26:F26) -> 53000
A27: 31111 | B27: Plaće za zaposlene | C27: 41 | D27: Tekuće pomoći iz državnog proračuna | E27: 0 | F27: 5200000 | G27: =F27 -> 5200000
A28: 31212 | B28: Ostali rashodi za zaposlene | C28: 42 | D28: =LOOKUP(C28,'KATALOG IZVORA FINANCIRANJA'!$A$2:$B$41) -> Tekuće pomoći iz županijskog proračuna | E28: 12000 | F28: -6000 | G28: =SUM(E28:F28) -> 6000
A29: 31212 | B29: Ostali rashodi za zaposlene | C29: 41 | D29: Tekuće pomoći iz državnog proračuna | E29: 53000 | F29: 177000 | G29: =SUM(E29:F29) -> 230000
A30: 313 | B30: Doprinosi na plaće | C30: 41 | D30: Tekuće pomoći iz državnog proračuna | E30: 0 | F30: 800000 | G30: =SUM(E30:F30) -> 800000
A31: 1002 A100209 | B31: TEKUĆE I INVESTICIJSKO ODRŽAVANJE | E31: =E32+E33+E34+E35+E36+E37+E38+E39+E40+E41+E42+E43+E44 -> 142066.95 | F31: =F32+F33+F34+F36+F39+F40+F42+F43+F44 -> 17520.5 | G31: =G32+G33+G34+G35+G36+G37+G38+G39+G40+G41+G42+G43+G44 -> 159587.45
A32: 32241 | B32: Materijal i dijelovi za tekuće i investicijsko održavanje građevinskih objekata | C32: 21 | D32: =LOOKUP(C32,'KATALOG IZVORA FINANCIRANJA'!$A$2:$B$41) -> Vlastiti prihodi proračunskih korisnika | E32: 3000 | F32: 6500 | G32: =SUM(E32:F32) -> 9500
A33: 32242 | B33: Materijal i dijelovi za tekuće i investicijsko održavanje postrojenja i opreme | C33: 21 | D33: =LOOKUP(C33,'KATALOG IZVORA FINANCIRANJA'!$A$2:$B$41) -> Vlastiti prihodi proračunskih korisnika | E33: 8000 | F33: 500 | G33: =SUM(E33:F33) -> 8500
A34: 32244 | B34: Ostali materijal i dijelovi za tekuće i investicijsko održavanje | C34: 21 | D34: =LOOKUP(C34,'KATALOG IZVORA FINANCIRANJA'!$A$2:$B$41) -> Vlastiti prihodi proračunskih korisnika | E34: 10000 | F34: -500 | G34: =SUM(E34:F34) -> 9500
A35: 32244 | B35: Ostali materijal i dijelovi za tekuće i investicijsko održavanje | C35: 12 | D35: =LOOKUP(C35,'KATALOG IZVORA FINANCIRANJA'!$A$2:$B$41) -> Decentralizirana funckija - osnovno školstvo | E35: 8000 | F35: 0 | G35: =SUM(E35:F35) -> 8000
A36: 32321 | B36: Usluge tekućeg i investicijskog održavanja građevinskih objekata | C36: 21 | D36: =LOOKUP(C36,'KATALOG IZVORA FINANCIRANJA'!$A$2:$B$41) -> Vlastiti prihodi proračunskih korisnika | E36: 27000 | F36: -25000 | G36: =SUM(E36:F36) -> 2000
A37: 32321 | B37: Usluge tekućeg i investicijskog održavanja građevinskih objekata | C37: 47 | D37: Pomoći | E37: 2000 | F37: 0 | G37: =SUM(E37:F37) -> 2000
A38: 32321 | B38: Usluge tekućeg i investicijskog održavanja građevinskih objekata | C38: 51 | D38: Donacije | E38: 4000 | F38: 0 | G38: =SUM(E38:F38) -> 4000
A39: 32321 | B39: Usluge tekućeg i investicijskog održavanja građevinskih objekata | C39: 12 | D39: =LOOKUP(C39,'KATALOG IZVORA FINANCIRANJA'!$A$2:$B$41) -> Decentralizirana funckija - osnovno školstvo | E39: 7000 | F39: 9745.5 | G39: =SUM(E39:F39) -> 16745.5
A40: 32322 | B40: Usluge tekućeg i investicijskog održavanja postrojenja i opreme | C40: 21 | D40: Vlastiti prihodi proračunskih korisnika | E40: 35000 | F40: 30000 | G40: =SUM(E40:F40) -> 65000
A41: 32322 | B41: Usluge tekućeg i investicijskog održavanja postrojenja i opreme | C41: 12 | D41: =LOOKUP(C41,'KATALOG IZVORA FINANCIRANJA'!$A$2:$B$41) -> Decentralizirana funckija - osnovno školstvo | E41: 14000 | F41: 0 | G41: =SUM(E41:F41) -> 14000
A42: 32323 | B42: Usluge tekućeg i investicijskog održavanja prijevoznih sredstava | C42: 21 | D42: =LOOKUP(C42,'KATALOG IZVORA FINANCIRANJA'!$A$2:$B$41) -> Vlastiti prihodi proračunskih korisnika | E42: 8000 | F42: -5850 | G42: =SUM(E42:F42) -> 2150
A43: 32329 | B43: Ostale usluge tekućeg i investicijskog održavanja | C43: 21 | D43: =LOOKUP(C43,'KATALOG IZVORA FINANCIRANJA'!$A$2:$B$41) -> Vlastiti prihodi proračunskih korisnika | E43: 10000 | F43: -6000 | G43: =SUM(E43:F43) -> 4000
A44: 32329 | B44: Ostale usluge tekućeg i investicijskog održavanja | C44: 12 | D44: =LOOKUP(C44,'KATALOG IZVORA FINANCIRANJA'!$A$2:$B$41) -> Decentralizirana funckija - osnovno školstvo | E44: 6066.95 | F44: 8125 | G44: =SUM(E44:F44) -> 14191.95
A45: 1002 A100210 | B45: OPĆI POSLOVI USTANOVA OSNOVNOG ŠKOLSTVA | E45: 1074633.1 | F45: 29239.24 | G45: 1103872.3
A46: 31111 | B46: Plaće za redovan rad | C46: 21 | D46: Vlastiti prihodi proračunskih korisnika | E46: 0 | F46: 4492.03 | G46: =SUM(E46:F46) -> 4492.03
A47: 32111 | B47: Dnevnice za službeni put u zemlji | C47: 21 | D47: =LOOKUP(C47,'KATALOG IZVORA FINANCIRANJA'!$A$2:$B$41) -> Vlastiti prihodi proračunskih korisnika | E47: 7000 | F47: -4000 | G47: =SUM(E47:F47) -> 3000
A48: 32111 | B48: Dnevnice za službeni put u zemlji | C48: 12 | D48: =LOOKUP(C48,'KATALOG IZVORA FINANCIRANJA'!$A$2:$B$41) -> Decentralizirana funckija - osnovno školstvo | E48: 9645.28 | F48: 0 | G48: =SUM(E48:F48) -> 9645.28
A49: 32112 | B49: Dnevnice za službeni put u inozemstvu | C49: 21 | D49: =LOOKUP(C49,'KATALOG IZVORA FINANCIRANJA'!$A$2:$B$41) -> Vlastiti prihodi proračunskih korisnika | E49: 6000 | F49: -4650 | G49: =SUM(E49:F49) -> 1350
A50: 32113 | B50: Naknade za smještaj na službenom putu u zemlji | C50: 21 | D50: =LOOKUP(C50,'KATALOG IZVORA FINANCIRANJA'!$A$2:$B$41) -> Vlastiti prihodi proračunskih korisnika | E50: 4000 | F50: -4000 | G50: =SUM(E50:F50) -> 0
A51: 32113 | B51: Naknade za smještaj na službenom putu u zemlji | C51: 12 | D51: =LOOKUP(C51,'KATALOG IZVORA FINANCIRANJA'!$A$2:$B$41) -> Decentralizirana funckija - osnovno školstvo | E51: 8518 | F51: 0 | G51: =SUM(E51:F51) -> 8518
A52: 32114 | B52: Naknade za smještaj na službenom putu u inozemstvu | C52: 21 | D52: =LOOKUP(C52,'KATALOG IZVORA FINANCIRANJA'!$A$2:$B$41) -> Vlastiti prihodi proračunskih korisnika | E52: 5000 | F52: -4650 | G52: =SUM(E52:F52) -> 350
A53: 32115 | B53: Naknade za prijevoz na službenom putu u zemlji | C53: 21 | D53: =LOOKUP(C53,'KATALOG IZVORA FINANCIRANJA'!$A$2:$B$41) -> Vlastiti prihodi proračunskih korisnika | E53: 3000 | F53: 2000 | G53: =SUM(E53:F53) -> 5000
A54: 32115 | B54: Naknade za prijevoz na službenom putu u zemlji | C54: 12 | D54: =LOOKUP(C54,'KATALOG IZVORA FINANCIRANJA'!$A$2:$B$41) -> Decentralizirana funckija - osnovno školstvo | E54: 982 | F54: 0 | G54: =SUM(E54:F54) -> 982
A55: 32116 | B55: Naknade za prijevoz na službenom putu u inozemstvu | C55: 21 | D55: =LOOKUP(C55,'KATALOG IZVORA FINANCIRANJA'!$A$2:$B$41) -> Vlastiti prihodi proračunskih korisnika | E55: 2000 | F55: -1700 | G55: =SUM(E55:F55) -> 300
A56: 32121 | B56: Naknada za prijevoz na posao i sa posla | C56: 47 | D56: Pomoći | E56: 8400 | F56: -1043.49 | G56: =SUM(E56:F56) -> 7356.51
A57: 32121 | B57: Naknada za prijevoz na posao i sa posla | C57: 42 | D57: =LOOKUP(C57,'KATALOG IZVORA FINANCIRANJA'!$A$2:$B$41) -> Tekuće pomoći iz županijskog proračuna | E57: 0 | F57: 49606.88 | G57: =SUM(E57:F57) -> 49606.88
A58: 32121 | B58: Naknada za prijevoz na posao i sa posla | C58: 12 | D58: =LOOKUP(C58,'KATALOG IZVORA FINANCIRANJA'!$A$2:$B$41) -> Decentralizirana funckija - osnovno školstvo | E58: 388933.05 | F58: -89867.68 | G58: =SUM(E58:F58) -> 299065.37
A59: 32131 | B59: Seminari, savjetovanja i simpoziji | C59: 21 | D59: =LOOKUP(C59,'KATALOG IZVORA FINANCIRANJA'!$A$2:$B$41) -> Vlastiti prihodi proračunskih korisnika | E59: 3000 | F59: 0 | G59: =SUM(E59:F59) -> 3000
A60: 32131 | B60: Seminari, savjetovanja i simpoziji | C60: 12 | D60: =LOOKUP(C60,'KATALOG IZVORA FINANCIRANJA'!$A$2:$B$41) -> Decentralizirana funckija - osnovno školstvo | E60: 1551 | F60: 0 | G60: =SUM(E60:F60) -> 1551
A61: 32132 | B61: Tečajevi i stručni ispiti | C61: 12 | D61: =LOOKUP(C61,'KATALOG IZVORA FINANCIRANJA'!$A$2:$B$41) -> Decentralizirana funckija - osnovno školstvo | E61: 0 | F61: 21750 | G61: =SUM(E61:F61) -> 21750
A62: 32141 | B62: Naknada za korištenje privatnog automobila u službene svrhe | C62: 21 | D62: =LOOKUP(C62,'KATALOG IZVORA FINANCIRANJA'!$A$2:$B$41) -> Vlastiti prihodi proračunskih korisnika | E62: 3000 | F62: -3000 | G62: =SUM(E62:F62) -> 0
A63: 32211 | B63: Uredski materijal | C63: 21 | D63: =LOOKUP(C63,'KATALOG IZVORA FINANCIRANJA'!$A$2:$B$41) -> Vlastiti prihodi proračunskih korisnika | E63: 2000 | F63: 8000 | G63: =SUM(E63:F63) -> 10000
A64: 32211 | B64: Uredski materijal | C64: 12 | D64: =LOOKUP(C64,'KATALOG IZVORA FINANCIRANJA'!$A$2:$B$41) -> Decentralizirana funckija - osnovno školstvo | E64: 8000 | F64: 2619.64 | G64: =SUM(E64:F64) -> 10619.64
A65: 32212 | B65: Literatura (publikacije, časopisi, glasila, knjige i ostalo) | C65: 21 | D65: =LOOKUP(C65,'KATALOG IZVORA FINANCIRANJA'!$A$2:$B$41) -> Vlastiti prihodi proračunskih korisnika | E65: 4000 | F65: -2702 | G65: =SUM(E65:F65) -> 1298
A66: 32212 | B66: Literatura (publikacije, časopisi, glasila, knjige i ostalo) | C66: 12 | D66: =LOOKUP(C66,'KATALOG IZVORA FINANCIRANJA'!$A$2:$B$41) -> Decentralizirana funckija - osnovno školstvo | E66: 3949.15 | F66: 0 | G66: =SUM(E66:F66) -> 3949.15
A67: 32214 | B67: Materijal i sredstva za čišćenje i održavanje | C67: 21 | D67: =LOOKUP(C67,'KATALOG IZVORA FINANCIRANJA'!$A$2:$B$41) -> Vlastiti prihodi proračunskih korisnika | E67: 3000 | F67: 0 | G67: =SUM(E67:F67) -> 3000
A68: 32214 | B68: Materijal i sredstva za čišćenje i održavanje | C68: 12 | D68: =LOOKUP(C68,'KATALOG IZVORA FINANCIRANJA'!$A$2:$B$41) -> Decentralizirana funckija - osnovno školstvo | E68: 3000 | F68: 0 | G68: =SUM(E68:F68) -> 3000
A69: 32216 | B69: Materijal za higijenske potrebe i njegu | C69: 21 | D69: =LOOKUP(C69,'KATALOG IZVORA FINANCIRANJA'!$A$2:$B$41) -> Vlastiti prihodi proračunskih korisnika | E69: 3000 | F69: 2000 | G69: =SUM(E69:F69) -> 5000
A70: 32216 | B70: Materijal za higijenske potrebe i njegu | C70: 12 | D70: =LOOKUP(C70,'KATALOG IZVORA FINANCIRANJA'!$A$2:$B$41) -> Decentralizirana funckija - osnovno školstvo | E70: 6000 | F70: 0 | G70: =SUM(E70:F70) -> 6000
A71: 32219 | B71: Ostali materijal za potrebe redovnog poslovanja | C71: 21 | D71: =LOOKUP(C71,'KATALOG IZVORA FINANCIRANJA'!$A$2:$B$41) -> Vlastiti prihodi proračunskih korisnika | E71: 3000 | F71: -500 | G71: =SUM(E71:F71) -> 2500
A72: 32219 | B72: Ostali materijal za potrebe redovnog poslovanja | C72: 12 | D72: =LOOKUP(C72,'KATALOG IZVORA FINANCIRANJA'!$A$2:$B$41) -> Decentralizirana funckija - osnovno školstvo | E72: 4000 | F72: 0 | G72: =SUM(E72:F72) -> 4000
A73: 32231 | B73: Električna energija | C73: 21 | D73: =LOOKUP(C73,'KATALOG IZVORA FINANCIRANJA'!$A$2:$B$41) -> Vlastiti prihodi proračunskih korisnika | E73: 3000 | F73: 9969.02 | G73: =SUM(E73:F73) -> 12969.02
... A90: 32332 | B90: Tisak | C90: 21 | D90: =LOOKUP(C90,'KATALOG IZVORA FINANCIRANJA'!$A$2:$B$41) -> Vlastiti prihodi proračunskih korisnika | E90: 5000 | F90: -4500 | G90: =SUM(E90:F90) -> 500
A91: 32334 | B91: Promidžbeni materijali | C91: 21 | D91: =LOOKUP(C91,'KATALOG IZVORA FINANCIRANJA'!$A$2:$B$41) -> Vlastiti prihodi proračunskih korisnika | E91: 0 | F91: 678.87 | G91: =SUM(E91:F91) -> 678.87
A92: 32334 | B92: Promidžbeni materijali | C92: 12 | D92: =LOOKUP(C92,'KATALOG IZVORA FINANCIRANJA'!$A$2:$B$41) -> Decentralizirana funckija - osnovno školstvo | E92: 16046.13 | F92: 0 | G92: =SUM(E92:F92) -> 16046.13
A93: 32339 | B93: Ostale usluge promidžbe i informiranja | C93: 21 | D93: =LOOKUP(C93,'KATALOG IZVORA FINANCIRANJA'!$A$2:$B$41) -> Vlastiti prihodi proračunskih korisnika | E93: 10000 | F93: 500 | G93: =SUM(E93:F93) -> 10500
A94: 32339 | B94: Ostale usluge promidžbe i informiranja | C94: 12 | D94: =LOOKUP(C94,'KATALOG IZVORA FINANCIRANJA'!$A$2:$B$41) -> Decentralizirana funckija - osnovno školstvo | E94: 0 | F94: 16625 | G94: =SUM(E94:F94) -> 16625
A95: 32341 | B95: Opskrba vodom | C95: 21 | D95: =LOOKUP(C95,'KATALOG IZVORA FINANCIRANJA'!$A$2:$B$41) -> Vlastiti prihodi proračunskih korisnika | E95: 3000 | F95: 1000 | G95: =SUM(E95:F95) -> 4000
A96: 32342 | B96: Iznošenje i odvoz smeća | C96: 21 | D96: =LOOKUP(C96,'KATALOG IZVORA FINANCIRANJA'!$A$2:$B$41) -> Vlastiti prihodi proračunskih korisnika | E96: 3000 | F96: 2300 | G96: =SUM(E96:F96) -> 5300
A97: 32342 | B97: Iznošenje i odvoz smeća | C97: 12 | D97: =LOOKUP(C97,'KATALOG IZVORA FINANCIRANJA'!$A$2:$B$41) -> Decentralizirana funckija - osnovno školstvo | E97: 1000 | F97: 0 | G97: =SUM(E97:F97) -> 1000
A98: 32343 | B98: Deratizacija i dezinsekcija | C98: 21 | D98: =LOOKUP(C98,'KATALOG IZVORA FINANCIRANJA'!$A$2:$B$41) -> Vlastiti prihodi proračunskih korisnika | E98: 3000 | F98: 0 | G98: =SUM(E98:F98) -> 3000
A99: 32343 | B99: Deratizacija i dezinsekcija | C99: 12 | D99: =LOOKUP(C99,'KATALOG IZVORA FINANCIRANJA'!$A$2:$B$41) -> Decentralizirana funckija - osnovno školstvo | E99: 0 | F99: 8750 | G99: =SUM(E99:F99) -> 8750
A100: 32349 | B100: Ostale komunalne usluge | C100: 21 | D100: =LOOKUP(C100,'KATALOG IZVORA FINANCIRANJA'!$A$2:$B$41) -> Vlastiti prihodi proračunskih korisnika | E100: 1000 | F100: 5943.4 | G100: =SUM(E100:F100) -> 6943.4
A101: 32349 | B101: Ostale komunalne usluge | C101: 12 | D101: =LOOKUP(C101,'KATALOG IZVORA FINANCIRANJA'!$A$2:$B$41) -> Decentralizirana funckija - osnovno školstvo | E101: 2000 | F101: 0 | G101: =SUM(E101:F101) -> 2000
A102: 32352 | B102: Zakupnine i najamnine za građevinske objekte | C102: 21 | D102: Vlastiti prihodi proračunskih korisnika | E102: 0 | F102: 7500 | G102: =SUM(E102:F102) -> 7500
A103: 32353 | B103: Zakupnine i najamnine za opremu | C103: 21 | D103: =LOOKUP(C103,'KATALOG IZVORA FINANCIRANJA'!$A$2:$B$41) -> Vlastiti prihodi proračunskih korisnika | E103: 5000 | F103: -5000 | G103: =SUM(E103:F103) -> 0
A104: 32355 | B104: Zakupnine i najamnine za prijevozna sredstva | C104: 21 | D104: =LOOKUP(C104,'KATALOG IZVORA FINANCIRANJA'!$A$2:$B$41) -> Vlastiti prihodi proračunskih korisnika | E104: 5000 | F104: -2000 | G104: =SUM(E104:F104) -> 3000
A105: 32355 | B105: Zakupnine i najamnine za prijevozna sredstva | C105: 12 | D105: =LOOKUP(C105,'KATALOG IZVORA FINANCIRANJA'!$A$2:$B$41) -> Decentralizirana funckija - osnovno školstvo | E105: 28400 | F105: 9.81 | G105: =SUM(E105:F105) -> 28409.81
A106: 32359 | B106: Ostale zakupnine i najamnine | C106: 21 | D106: =LOOKUP(C106,'KATALOG IZVORA FINANCIRANJA'!$A$2:$B$41) -> Vlastiti prihodi proračunskih korisnika | E106: 5000 | F106: -5000 | G106: =SUM(E106:F106) -> 0
A107: 32361 | B107: Obvezni i preventivni zdravstveni pregledi zaposlenika | C107: 21 | D107: =LOOKUP(C107,'KATALOG IZVORA FINANCIRANJA'!$A$2:$B$41) -> Vlastiti prihodi proračunskih korisnika | E107: 2000 | F107: -2000 | G107: =SUM(E107:F107) -> 0
A108: 32361 | B108: Obvezni i preventivni zdravstveni pregledi zaposlenika | C108: 12 | D108: =LOOKUP(C108,'KATALOG IZVORA FINANCIRANJA'!$A$2:$B$41) -> Decentralizirana funckija - osnovno školstvo | E108: 15000 | F108: 4000 | G108: =SUM(E108:F108) -> 19000
A109: 32371 | B109: Autorski honorari | C109: 21 | D109: =LOOKUP(C109,'KATALOG IZVORA FINANCIRANJA'!$A$2:$B$41) -> Vlastiti prihodi proračunskih korisnika | E109: 5000 | F109: -5000 | G109: =SUM(E109:F109) -> 0
A110: 32371 | B110: Autorski honorari | C110: 12 | D110: =LOOKUP(C110,'KATALOG IZVORA FINANCIRANJA'!$A$2:$B$41) -> Decentralizirana funckija - osnovno školstvo | E110: 6115.67 | F110: 0 | G110: =SUM(E110:F110) -> 6115.67
A111: 32372 | B111: Ugovori o djelu | C111: 21 | D111: =LOOKUP(C111,'KATALOG IZVORA FINANCIRANJA'!$A$2:$B$41) -> Vlastiti prihodi proračunskih korisnika | E111: 20000 | F111: 19000 | G111: =SUM(E111:F111) -> 39000
A112: 32372 | B112: Ugovori o djelu | C112: 41 | D112: Tekuće pomoći iz državnog proračuna | E112: 0 | F112: 115000 | G112: =SUM(E112:F112) -> 115000
A113: 32372 | B113: Ugovori o djelu | C113: 41 | D113: Tekuće pomoći iz državnog proračuna | E113: 130000 | F113: -130000 | G113: =SUM(E113:F113) -> 0
A114: 32372 | B114: Ugovori o djelu | C114: 12 | D114: =LOOKUP(C114,'KATALOG IZVORA FINANCIRANJA'!$A$2:$B$41) -> Decentralizirana funckija - osnovno školstvo | E114: 14186.04 | F114: -727.75 | G114: =SUM(E114:F114) -> 13458.29
A115: 32373 | B115: Usluge odvjetnika i pravnog savjetovanja | C115: 21 | D115: =LOOKUP(C115,'KATALOG IZVORA FINANCIRANJA'!$A$2:$B$41) -> Vlastiti prihodi proračunskih korisnika | E115: 5000 | F115: -2500 | G115: =SUM(E115:F115) -> 2500
A116: 32377 | B116: Usluge agencija, studentskog servisa (prijepisi, prijevodi i drugo) | C116: 21 | D116: =LOOKUP(C116,'KATALOG IZVORA FINANCIRANJA'!$A$2:$B$41) -> Vlastiti prihodi proračunskih korisnika | E116: 5000 | F116: -4700 | G116: =SUM(E116:F116) -> 300
...

Sheet KATALOG IZVORA FINANCIRANJA
A1: Izvor | B1: Opis
A2: 0 | B2: Nema izvora financiranja
A3: 1 | B3: Opći prihodi i primici
A4: 11 | B4: Opći prihodi i primici (nenamjenski) - gradska sredstva
A5: 12 | B5: Decentralizirana funckija - osnovno školstvo
A6: 13 | B6: Decentralizirana funkcija - vatrogastvo
A7: 2 | B7: Vlastiti prihodi
A8: 21 | B8: Vlastiti prihodi proračunskih korisnika
A9: 3 | B9: Prihodi za posebne namjene
A10: 31 | B10: Komunalna naknada
A11: 32 | B11: Komunalni doprinos
A12: 33 | B12: Spomenička renta
A13: 34 | B13: Prihodi od poljoprivrivrednog zemljišta
... A41: 81 | B41: Štete
