Workbook

Sheet PRIHODI
A1: EKONOMSKA KLASIFIKACIJA | B1: EKONOMSKA KLASIFIKACIJA NAZIV | C1: IZVOR FINANCIRANJA | D1: IZVOR FINANCIRANJA - NAZIV | E1: PLAN | F1: REBALANS | G1: NOVI PLAN
E2: =SUM(E3:E22) -> 1594800 | F2: =SUM(F3:F22) -> 6265929.4 | G2: =E2+F2 -> 7860729.4
A3: 67111 | B3: Prihodi iz nadležnog proračuna za financiranje rashoda poslovanja | C3: 12 | D3: =LOOKUP(C3,'[1]KATALOG IZVORA FINANCIRANJA'!$A$2:$B$40) -> Decentralizirana funckija - osnovno školstvo | E3: 695000 | F3: 0 | G3: =E3+F3 -> 695000
A4: 67111 | B4: Prihodi iz nadležnog proračuna za financiranje rashoda poslovanja | C4: 11 | D4: =LOOKUP(C4,'[1]KATALOG IZVORA FINANCIRANJA'!$A$2:$B$40) -> Opći prihodi i primici (nenamjenski) - gradska sredstva | E4: 221100 | F4: -66202.1 | G4: =E4+F4 -> 154897.9
A5: 63613 | B5: Tekuće pomoći proračunskim korisnicima iz proračuna JLP S koji im nije nadležan | C5: 42 | D5: =LOOKUP(C5,'[1]KATALOG IZVORA FINANCIRANJA'!$A$2:$B$40) -> Tekuće pomoći iz županijskog proračuna | E5: 12000 | F5: 43606.88 | G5: =E5+F5 -> 55606.88
A6: 63612 | B6: Tekuće pomoći iz državnog proračuna proračunskim korisnicima JLP S | C6: 41 | D6: =LOOKUP(C6,'[1]KATALOG IZVORA FINANCIRANJA'!$A$2:$B$40) -> Tekuće pomoći iz državnog proračuna | E6: 146000 | F6: 6221000 | G6: =E6+F6 -> 6367000
A7: 63414 | B7: Tekuće pomoći od hzmo-a, hzz-a, hzzo-a | C7: 47 | D7: =LOOKUP(C7,'[1]KATALOG IZVORA FINANCIRANJA'!$A$2:$B$40) -> Pomoći | E7: 9000 | F7: -2472.49 | G7: =E7+F7 -> 6527.51
A8: 63814 | B8: Tekuće pomoći od izvanporačunskih korisnika temeljm prijenosa EU sredstava | C8: 47 | D8: =LOOKUP(C8,'[1]KATALOG IZVORA FINANCIRANJA'!$A$2:$B$40) -> Pomoći | E8: 61400 | F8: -1043.49 | G8: =E8+F8 -> 60356.51
A9: 63613 | B9: Tekuće pomoći proračunskim korisnicima iz proračuna JLP S koji im nije nadležan | C9: 47 | D9: =LOOKUP(C9,'[1]KATALOG IZVORA FINANCIRANJA'!$A$2:$B$40) -> Pomoći | E9: 2000 | F9: 0 | G9: =E9+F9 -> 2000
A10: 63622 | B10: Kapitalne pomoći iz državnog proračuna korisnicima JLP S | C10: 43 | D10: =LOOKUP(C10,'[1]KATALOG IZVORA FINANCIRANJA'!$A$2:$B$40) -> Kapitalne pomoći iz državnog proračuna | E10: 0 | F10: 1600 | G10: =E10+F10 -> 1600
A11: 63621 | B11: Kapitalne donacije od fizičkih osoba | C11: 52 | D11: =LOOKUP(C11,'[1]KATALOG IZVORA FINANCIRANJA'!$A$2:$B$40) -> Kapitalne donacije | E11: 0 | F11: 10000 | G11: =E11+F11 -> 10000
A12: 66313 | B12: Tekuće donacije od trgovačkih društava | C12: 51 | D12: =LOOKUP(C12,'[1]KATALOG IZVORA FINANCIRANJA'!$A$2:$B$40) -> Donacije | E12: 4000 | F12: 0 | G12: =E12+F12 -> 4000
A13: 72262 | B13: Prihodi od prodaje postrojenja i opreme | C13: 64 | D13: Prodaja glazbenih instrumenata | E13: 0 | F13: 6200 | G13: =E13+F13 -> 6200
A14: 64151 | B14: Prihodi od pozitivnih tečajnih razlika | C14: 21 | D14: =LOOKUP(C14,'[1]KATALOG IZVORA FINANCIRANJA'!$A$2:$B$40) -> Vlastiti prihodi proračunskih korisnika | E14: 1000 | F14: -1000 | G14: =E14+F14 -> 0
A15: 64132 | B15: Kamate na depozite po viđenju | C15: 21 | D15: =LOOKUP(C15,'[1]KATALOG IZVORA FINANCIRANJA'!$A$2:$B$40) -> Vlastiti prihodi proračunskih korisnika | E15: 700 | F15: -700 | G15: =E15+F15 -> 0
A16: 65264 | B16: Sufinanciranje cijene usluge, participacije i slično | C16: 21 | D16: =LOOKUP(C16,'[1]KATALOG IZVORA FINANCIRANJA'!$A$2:$B$40) -> Vlastiti prihodi proračunskih korisnika | E16: 529600 | F16: 64940.58 | G16: =E16+F16 -> 594540.58
A17: 66151 | B17: Prihodi od pruženih usluga | C17: 21 | D17: =LOOKUP(C17,'[1]KATALOG IZVORA FINANCIRANJA'!$A$2:$B$40) -> Vlastiti prihodi proračunskih korisnika | E17: 20000 | F17: -8000 | G17: =E17+F17 -> 12000
A18: 68311 | B18: Ostali prihodi | C18: 21 | D18: =LOOKUP(C18,'[1]KATALOG IZVORA FINANCIRANJA'!$A$2:$B$40) -> Vlastiti prihodi proračunskih korisnika | E18: 3000 | F18: -2000 | G18: =E18+F18 -> 1000
A19: 92222 | B19: Manjak prihoda od nefinancijske imovine | C19: 21 | D19: =LOOKUP(C19,'[1]KATALOG IZVORA FINANCIRANJA'!$A$2:$B$40) -> Vlastiti prihodi proračunskih korisnika | E19: -110000 | F19: 0 | G19: =E19+F19 -> -110000

Sheet RASHODI
A1: EKONOMSKA KLASIFIKACIJA | B1: RAZDJEL/GLAVA/RKP/PROGRAM/AKTIVNOST EKONOMSKA KLASIFIKACIJA NAZIV | C1: IZVOR FINANCIRANJA | D1: IZVOR FINANCIRANJA - NAZIV | E1: PLAN | F1: REBALANS | G1: NOVI PLAN
A2: 004 | B2: UPRAVNI ODJEL DRUŠTVENIH DJELATNOSTI | E2: =E3 -> 1594800 | F2: =F3 -> 6265929.4 | G2: =G3 -> 7860729.4
A3: 00405 | B3: OSNOVNO ŠKOLSTVO | E3: =E4+E24 -> 1594800 | F3: =F4+F24 -> 6265929.4 | G3: =G4+G24 -> 7860729.4
A4: 1001 | B4: PLAN RAZVOJNIH PROGRAMA | E4: =SUM(E7:E21) -> 92000 | F4: =F5 -> 61371.74 | G4: =G5 -> 153371.74
A5: 1001 K100117 | B5: KAPITALNO ULAGANJE U OSNOVNO ŠKOLSTVO | E5: =SUM(E7:E21) -> 92000 | F5: =F6+F7+F8+F9+F10+F11+F12+F13+F14+F15+F16+F17+F18+F19+F20+F21+F22+F23 -> 61371.74 | G5: =G6+G7+G8+G9+G10+G11+G12+G13+G14+G15+G16+G17+G18+G19+G20+G21+G22+G23 -> 153371.74
A6: 41261 | B6: Ostala nematerijalna imovina | C6: 21 | D6: Vlastiti prihodi proračunskih korisnika | E6: 0 | F6: 19000 | G6: =SUM(E6:F6) -> 19000
A7: 42211 | B7: Računala i računalna oprema | C7: 21 | D7: =LOOKUP(C7,'KATALOG IZVORA FINANCIRANJA'!$A$2:$B$41) -> Vlastiti prihodi proračunskih korisnika | E7: 10000 | F7: 11000 | G7: =SUM(E7:F7) -> 21000
A8: 42212 | B8: Uredski namještaj | C8: 21 | D8: =LOOKUP(C8,'KATALOG IZVORA FINANCIRANJA'!$A$2:$B$41) -> Vlastiti prihodi proračunskih korisnika | E8: 5000 | F8: -4500 | G8: =SUM(E8:F8) -> 500
A9: 42219 | B9: Ostala uredska oprema | C9: 21 | D9: =LOOKUP(C9,'KATALOG IZVORA FINANCIRANJA'!$A$2:$B$41) -> Vlastiti prihodi proračunskih korisnika | E9: 5000 | F9: 300 | G9: =SUM(E9:F9) -> 5300
A10: 42221 | B10: Radio i TV prijemnici | C10: 21 | D10: =LOOKUP(C10,'KATALOG IZVORA FINANCIRANJA'!$A$2:$B$41) -> Vlastiti prihodi proračunskih korisnika | E10: 3000 | F10: -3000 | G10: =SUM(E10:F10) -> 0
A11: 42222 | B11: Telefoni i ostali komunikacijski uređaji | C11: 21 | D11: =LOOKUP(C11,'KATALOG IZVORA FINANCIRANJA'!$A$2:$B$41) -> Vlastiti prihodi proračunskih korisnika | E11: 0 | F11: 2200 | G11: =SUM(E11:F11) -> 2200
A12: 42229 | B12: Ostala komunikacijska oprema | C12: 21 | D12: Vlastiti prihodi proračunskih korisnika | E12: 5000 | F12: -2000 | G12: =SUM(E12:F12) -> 3000
A13: 42231 | B13: Oprema za grijanje, ventilaciju i hlađenje | C13: 21 | D13: =LOOKUP(C13,'KATALOG IZVORA FINANCIRANJA'!$A$2:$B$41) -> Vlastiti prihodi proračunskih korisnika | E13: 5000 | F13: -2500 | G13: =SUM(E13:F13) -> 2500
A14: 42232 | B14: Oprema za održavanje prostorija | C14: 21 | D14: =LOOKUP(C14,'KATALOG IZVORA FINANCIRANJA'!$A$2:$B$41) -> Vlastiti prihodi proračunskih korisnika | E14: 5000 | F14: 0 | G14: =SUM(E14:F14) -> 5000
A15: 42239 | B15: Ostala oprema za održavanje i zaštitu | C15: 21 | D15: =LOOKUP(C15,'KATALOG IZVORA FINANCIRANJA'!$A$2:$B$41) -> Vlastiti prihodi proračunskih korisnika | E15: 5000 | F15: -3600 | G15: =SUM(E15:F15) -> 1400
A16: 42262 | B16: Glazbeni instrumenti i oprema | C16: 21 | D16: =LOOKUP(C16,'KATALOG IZVORA FINANCIRANJA'!$A$2:$B$41) -> Vlastiti prihodi proračunskih korisnika | E16: 30000 | F16: 19000 | G16: =SUM(E16:F16) -> 49000
A17: 42262 | B17: Glazbeni instrumenti i oprema | C17: 52 | D17: Kapitalne donacije | E17: 0 | F17: 10000 | G17: =SUM(E17:F17) -> 10000
A18: 42262 | B18: Glazbeni instrumenti i oprema | C18: 64 | D18: Prodaja glazbenih instrumenata | E18: 0 | F18: 6200 | G18: =SUM(E18:F18) -> 6200
A19: 42272 | B19: Strojevi | C19: 21 | D19: Vlastiti prihodi proračunskih korisnika | E19: 0 | F19: 2000 | G19: =SUM(E19:F19) -> 2000
A20: 42273 | B20: Oprema | C20: 21 | D20: Vlastiti prihodi proračunskih korisnika | E20: 0 | F20: 8000 | G20: =SUM(E20:F20) -> 8000
A21: 42411 | B21: Knjige | C21: 21 | D21: =LOOKUP(C21,'KATALOG IZVORA FINANCIRANJA'!$A$2:$B$41) -> Vlastiti prihodi proračunskih korisnika | E21: 19000 | F21: -7028.26 | G21: =SUM(E21:F21) -> 11971.74
A22: 42411 | B22: Knjige | C22: 43 | D22: Kapitalne pomoći iz državnog proračuna | E22: 0 | F22: 1600 | G22: =SUM(E22:F22) -> 1600
A23: 42429 | B23: Ostala umjetnička djela | C23: 21 | D23: Vlastiti prihodi proračunskih korisnika | E23: 0 | F23: 4700 | G23: =SUM(E23:F23) -> 4700
A24: 1002 | B24: TEKUĆI PROGRAMI | E24: =E25+E31+E45+E153 -> 1502800 | F24: =F25+F31+F45+F153 -> 6204557.6 | G24: =G25+G31+G45+G153 -> 7707357.6
A25: 1002 A100208 | B25: STRUČNO, ADMINISTRATIVNO I TEHNIČKO OSOBLJE | E25: =E28+E29 -> 65000 | F25: =F26+F27+F28+F29+F30 -> 6224000 | G25: =G26+G27+G28+G29+G30 -> 6289000
A26: 31111 | B26: Plaće za zaposlene | C26: 47 | D26: Pomoći | E26: 0 | F26: 53000 | G26: =SUM(E26:F26) -> 53000
A27: 31111 | B27: Plaće za zaposlene | C27: 41 | D27: Tekuće pomoći iz državnog proračuna | E27: 0 | F27: 5200000 | G27: =F27 -> 5200000
A28: 31212 | B28: Ostali rashodi za zaposlene | C28: 42 | D28: =LOOKUP(C28,'KATALOG IZVORA FINANCIRANJA'!$A$2:$B$41) -> Tekuće pomoći iz županijskog proračuna | E28: 12000 | F28: -6000 | G28: =SUM(E28:F28) -> 6000
A29: 31212 | B29: Ostali rashodi za zaposlene | C29: 41 | D29: Tekuće pomoći iz državnog proračuna | E29: 53000 | F29: 177000 | G29: =SUM(E29:F29) -> 230000
A30: 313 | B30: Doprinosi na plaće | C30: 41 | D30: Tekuće pomoći iz državnog proračuna | E30: 0 | F30: 800000 | G30: =SUM(E30:F30) -> 800000
A31: 1002 A100209 | B31: TEKUĆE I INVESTICIJSKO ODRŽAVANJE | E31: =E32+E33+E34+E35+E36+E37+E38+E39+E40+E41+E42+E43+E44 -> 142066.95 | F31: =F32+F33+F34+F36+F39+F40+F42+F43+F44 -> 17520.5 | G31: =G32+G33+G34+G35+G36+G37+G38+G39+G40+G41+G42+G43+G44 -> 159587.45
A32: 32241 | B32: Materijal i dijelovi za tekuće i investicijsko održavanje građevinskih objekata | C32: 21 | D32: =LOOKUP(C32,'KATALOG IZVORA FINANCIRANJA'!$A$2:$B$41) -> Vlastiti prihodi proračunskih korisnika | E32: 3000 | F32: 6500 | G32: =SUM(E32:F32) -> 9500
A33: 32242 | B33: Materijal i dijelovi za tekuće i investicijsko održavanje postrojenja i opreme | C33: 21 | D33: =LOOKUP(C33,'KATALOG IZVORA FINANCIRANJA'!$A$2:$B$41) -> Vlastiti prihodi proračunskih korisnika | E33: 8000 | F33: 500 | G33: =SUM(E33:F33) -> 8500
A34: 32244 | B34: Ostali materijal i dijelovi za tekuće i investicijsko održavanje | C34: 21 | D34: =LOOKUP(C34,'KATALOG IZVORA FINANCIRANJA'!$A$2:$B$41) -> Vlastiti prihodi proračunskih korisnika | E34: 10000 | F34: -500 | G34: =SUM(E34:F34) -> 9500
A35: 32244 | B35: Ostali materijal i dijelovi za tekuće i investicijsko održavanje | C35: 12 | D35: =LOOKUP(C35,'KATALOG IZVORA FINANCIRANJA'!$A$2:$B$41) -> Decentralizirana funckija - osnovno školstvo | E35: 8000 | F35: 0 | G35: =SUM(E35:F35) -> 8000
A36: 32321 | B36: Usluge tekućeg i investicijskog održavanja građevinskih objekata | C36: 21 | D36: =LOOKUP(C36,'KATALOG IZVORA FINANCIRANJA'!$A$2:$B$41) -> Vlastiti prihodi proračunskih korisnika | E36: 27000 | F36: -25000 | G36: =SUM(E36:F36) -> 2000
A37: 32321 | B37: Usluge tekućeg i investicijskog održavanja građevinskih objekata | C37: 47 | D37: Pomoći | E37: 2000 | F37: 0 | G37: =SUM(E37:F37) -> 2000
A38: 32321 | B38: Usluge tekućeg i investicijskog održavanja građevinskih objekata | C38: 51 | D38: Donacije | E38: 4000 | F38: 0 | G38: =SUM(E38:F38) -> 4000
A39: 32321 | B39: Usluge tekućeg i investicijskog održavanja građevinskih objekata | C39: 12 | D39: =LOOKUP(C39,'KATALOG IZVORA FINANCIRANJA'!$A$2:$B$41) -> Decentralizirana funckija - osnovno školstvo | E39: 7000 | F39: 9745.5 | G39: =SUM(E39:F39) -> 16745.5
A40: 32322 | B40: Usluge tekućeg i investicijskog održavanja postrojenja i opreme | C40: 21 | D40: Vlastiti prihodi proračunskih korisnika | E40: 35000 | F40: 30000 | G40: =SUM(E40:F40) -> 65000
...

Sheet KATALOG IZVORA FINANCIRANJA
A1: Izvor | B1: Opis
A2: 0 | B2: Nema izvora financiranja
A3: 1 | B3: Opći prihodi i primici
A4: 11 | B4: Opći prihodi i primici (nenamjenski) - gradska sredstva
A5: 12 | B5: Decentralizirana funckija - osnovno školstvo
A6: 13 | B6: Decentralizirana funkcija - vatrogastvo
A7: 2 | B7: Vlastiti prihodi
A8: 21 | B8: Vlastiti prihodi proračunskih korisnika
A9: 3 | B9: Prihodi za posebne namjene
A10: 31 | B10: Komunalna naknada
A11: 32 | B11: Komunalni doprinos
A12: 33 | B12: Spomenička renta
A13: 34 | B13: Prihodi od poljoprivrivrednog zemljišta
... A41: 81 | B41: Štete
